BEGIN:VCALENDAR
VERSION:2.0
PRODID:-//Noosa&#039;s Classy Lady - ECPv5.3.2.1//NONSGML v1.0//EN
CALSCALE:GREGORIAN
METHOD:PUBLISH
X-WR-CALNAME:Noosa&#039;s Classy Lady
X-ORIGINAL-URL:https://classyladynoosaville.com.au
X-WR-CALDESC:Events for Noosa&#039;s Classy Lady
BEGIN:VTIMEZONE
TZID:Australia/Sydney
BEGIN:STANDARD
TZOFFSETFROM:+1100
TZOFFSETTO:+1000
TZNAME:AEST
DTSTART:20200404T160000
END:STANDARD
BEGIN:DAYLIGHT
TZOFFSETFROM:+1000
TZOFFSETTO:+1100
TZNAME:AEDT
DTSTART:20201003T160000
END:DAYLIGHT
END:VTIMEZONE
BEGIN:VEVENT
DTSTART;TZID=Australia/Sydney:20201009T080000
DTEND;TZID=Australia/Sydney:20201009T170000
DTSTAMP:20210223T225732
CREATED:20200826T233144Z
LAST-MODIFIED:20200826T233531Z
UID:984-1602230400-1602262800@classyladynoosaville.com.au
SUMMARY:Charity Golf Day
DESCRIPTION:To Book – please click HERE.
URL:https://classyladynoosaville.com.au/event/charity-golf-day/
LOCATION:Noosa Springs Golf Club\, Noosa Springs Drive\, Noosa Heads\, QLD\, 4567\, Australia
ATTACH;FMTTYPE=image/jpeg:https://classyladynoosaville.com.au/wp-content/uploads/2020/08/SCH-Golf-2-e1598483877175.jpg
ORGANIZER;CN="Santa%27s%20Classy%20Helpers":MAILTO:santasclassyhelpers@gmail.com
END:VEVENT
END:VCALENDAR